BEGIN:VCALENDAR
VERSION:2.0
PRODID:-//Emmanuel Missionary Institute - ECPv6.15.17//NONSGML v1.0//EN
CALSCALE:GREGORIAN
METHOD:PUBLISH
X-ORIGINAL-URL:https://emi-ministries.org
X-WR-CALDESC:Events for Emmanuel Missionary Institute
REFRESH-INTERVAL;VALUE=DURATION:PT1H
X-Robots-Tag:noindex
X-PUBLISHED-TTL:PT1H
BEGIN:VTIMEZONE
TZID:America/New_York
BEGIN:DAYLIGHT
TZOFFSETFROM:-0500
TZOFFSETTO:-0400
TZNAME:EDT
DTSTART:20200308T070000
END:DAYLIGHT
BEGIN:STANDARD
TZOFFSETFROM:-0400
TZOFFSETTO:-0500
TZNAME:EST
DTSTART:20201101T060000
END:STANDARD
BEGIN:DAYLIGHT
TZOFFSETFROM:-0500
TZOFFSETTO:-0400
TZNAME:EDT
DTSTART:20210314T070000
END:DAYLIGHT
BEGIN:STANDARD
TZOFFSETFROM:-0400
TZOFFSETTO:-0500
TZNAME:EST
DTSTART:20211107T060000
END:STANDARD
BEGIN:DAYLIGHT
TZOFFSETFROM:-0500
TZOFFSETTO:-0400
TZNAME:EDT
DTSTART:20220313T070000
END:DAYLIGHT
BEGIN:STANDARD
TZOFFSETFROM:-0400
TZOFFSETTO:-0500
TZNAME:EST
DTSTART:20221106T060000
END:STANDARD
END:VTIMEZONE
BEGIN:VEVENT
DTSTART;TZID=America/New_York:20211218T100000
DTEND;TZID=America/New_York:20211218T110000
DTSTAMP:20260421T121459
CREATED:20210604T014831Z
LAST-MODIFIED:20211119T183648Z
UID:1381-1639821600-1639825200@emi-ministries.org
SUMMARY:Voice in theWilderness - Live on YouTube
DESCRIPTION:Ray will be preaching live VIA YouTube for Voice in the Wilderness Ministries which is located in England.  The meetings will be at 3:00 PM and 6:00 PM GMT England time\, which will be 10:00 AM EST and 12:00 AM EST here in Maryland.  See the time zone website to figure the time in your area. https://www.timeanddate.com/worldclock/ \nThe two part series is  “America\, the Beautiful? Part 11 & 12”\, which deals with current events in light of Bible Prophecy. \nMust be on our email list to receive the YouTube  links to watch live. \n 
URL:https://emi-ministries.org/event/voice-in-thewilderness-live-on-youtube/
END:VEVENT
END:VCALENDAR