BEGIN:VCALENDAR
VERSION:2.0
PRODID:-//Emmanuel Missionary Institute - ECPv6.15.17//NONSGML v1.0//EN
CALSCALE:GREGORIAN
METHOD:PUBLISH
X-WR-CALNAME:Emmanuel Missionary Institute
X-ORIGINAL-URL:https://emi-ministries.org
X-WR-CALDESC:Events for Emmanuel Missionary Institute
REFRESH-INTERVAL;VALUE=DURATION:PT1H
X-Robots-Tag:noindex
X-PUBLISHED-TTL:PT1H
BEGIN:VTIMEZONE
TZID:America/New_York
BEGIN:DAYLIGHT
TZOFFSETFROM:-0500
TZOFFSETTO:-0400
TZNAME:EDT
DTSTART:20250309T070000
END:DAYLIGHT
BEGIN:STANDARD
TZOFFSETFROM:-0400
TZOFFSETTO:-0500
TZNAME:EST
DTSTART:20251102T060000
END:STANDARD
BEGIN:DAYLIGHT
TZOFFSETFROM:-0500
TZOFFSETTO:-0400
TZNAME:EDT
DTSTART:20260308T070000
END:DAYLIGHT
BEGIN:STANDARD
TZOFFSETFROM:-0400
TZOFFSETTO:-0500
TZNAME:EST
DTSTART:20261101T060000
END:STANDARD
BEGIN:DAYLIGHT
TZOFFSETFROM:-0500
TZOFFSETTO:-0400
TZNAME:EDT
DTSTART:20270314T070000
END:DAYLIGHT
BEGIN:STANDARD
TZOFFSETFROM:-0400
TZOFFSETTO:-0500
TZNAME:EST
DTSTART:20271107T060000
END:STANDARD
END:VTIMEZONE
BEGIN:VEVENT
DTSTART;TZID=America/New_York:20260123T193000
DTEND;TZID=America/New_York:20260123T203000
DTSTAMP:20260421T155411
CREATED:20231103T192002Z
LAST-MODIFIED:20251204T194312Z
UID:1718-1769196600-1769200200@emi-ministries.org
SUMMARY:EMI Zoom Meeting - The Book of Acts Part 45
DESCRIPTION:EMI is hosting Zoom meetings every Friday night with Ray DeCarlo. Currently he is giving a study on the book of Acts.  Sign up for our emails to receive the Zoom sign in details. If you would like to listen to the previous meetings go to our website\, click on the “Sermons” tab then click on “New Sermons.”
URL:https://emi-ministries.org/event/emi-zoom-meetings-every-friday-night-3/
END:VEVENT
END:VCALENDAR