BEGIN:VCALENDAR
VERSION:2.0
PRODID:-//Emmanuel Missionary Institute - ECPv6.15.17//NONSGML v1.0//EN
CALSCALE:GREGORIAN
METHOD:PUBLISH
X-WR-CALNAME:Emmanuel Missionary Institute
X-ORIGINAL-URL:https://emi-ministries.org
X-WR-CALDESC:Events for Emmanuel Missionary Institute
REFRESH-INTERVAL;VALUE=DURATION:PT1H
X-Robots-Tag:noindex
X-PUBLISHED-TTL:PT1H
BEGIN:VTIMEZONE
TZID:America/New_York
BEGIN:DAYLIGHT
TZOFFSETFROM:-0500
TZOFFSETTO:-0400
TZNAME:EDT
DTSTART:20160313T070000
END:DAYLIGHT
BEGIN:STANDARD
TZOFFSETFROM:-0400
TZOFFSETTO:-0500
TZNAME:EST
DTSTART:20161106T060000
END:STANDARD
BEGIN:DAYLIGHT
TZOFFSETFROM:-0500
TZOFFSETTO:-0400
TZNAME:EDT
DTSTART:20170312T070000
END:DAYLIGHT
BEGIN:STANDARD
TZOFFSETFROM:-0400
TZOFFSETTO:-0500
TZNAME:EST
DTSTART:20171105T060000
END:STANDARD
BEGIN:DAYLIGHT
TZOFFSETFROM:-0500
TZOFFSETTO:-0400
TZNAME:EDT
DTSTART:20180311T070000
END:DAYLIGHT
BEGIN:STANDARD
TZOFFSETFROM:-0400
TZOFFSETTO:-0500
TZNAME:EST
DTSTART:20181104T060000
END:STANDARD
END:VTIMEZONE
BEGIN:VEVENT
DTSTART;VALUE=DATE:20171106
DTEND;VALUE=DATE:20171112
DTSTAMP:20260421T225930
CREATED:20170524T191855Z
LAST-MODIFIED:20171031T184053Z
UID:607-1509926400-1510444799@emi-ministries.org
SUMMARY:Culpeper Virginia
DESCRIPTION:WEEK OF PRAYER \nCulpeper Seventh-day Adventist Church\, 11270 James Monroe Highway\, Culpeper\, VA  22701. \n\nNovember 6 – 10:  Monday – Friday 6:45 PM.\nSabbath\, November 11:  11:00 AM Worship Service. Fellowship lunch right after Worship Service. Last meeting at 2:30 PM.\n\nFor more information contact Joe Pulley at 540-661-1275 or 540-406-9124. \nWatch live stream http://culpepersda.org \n 
URL:https://emi-ministries.org/event/culpeper-virginia/
END:VEVENT
BEGIN:VEVENT
DTSTART;TZID=America/New_York:20170916T110000
DTEND;TZID=America/New_York:20170916T150000
DTSTAMP:20260421T225930
CREATED:20170607T170710Z
LAST-MODIFIED:20170913T013506Z
UID:665-1505559600-1505574000@emi-ministries.org
SUMMARY:Burnt Mills Seventh-day Adventist Church
DESCRIPTION:10915 Lockwood Drive\nSilver Spring\, MD 20901 (USA)\nPhone: 301-593-8496\n \nMeeting Times:  11:00 AM & 2:00 PM \n 
URL:https://emi-ministries.org/event/burnt-mills-seventh-day-adventist-church/
END:VEVENT
BEGIN:VEVENT
DTSTART;TZID=America/New_York:20170429T110000
DTEND;TZID=America/New_York:20170429T120000
DTSTAMP:20260421T225930
CREATED:20170213T165006Z
LAST-MODIFIED:20170213T165006Z
UID:111-1493463600-1493467200@emi-ministries.org
SUMMARY:11:00 AM Worship Service
DESCRIPTION:
URL:https://emi-ministries.org/event/1100-am-worship-service-2/
LOCATION:Catoctin View Seventh-day Adventist Church\, 15601 Catoctin Mountain Hwy\, Thurmont\, MD\, 21788\, United States
END:VEVENT
BEGIN:VEVENT
DTSTART;TZID=America/New_York:20170311T110000
DTEND;TZID=America/New_York:20170311T120000
DTSTAMP:20260421T225930
CREATED:20170213T164912Z
LAST-MODIFIED:20170213T164912Z
UID:108-1489230000-1489233600@emi-ministries.org
SUMMARY:11:00 AM Worship Service
DESCRIPTION:
URL:https://emi-ministries.org/event/1100-am-worship-service/
LOCATION:Catoctin View Seventh-day Adventist Church\, 15601 Catoctin Mountain Hwy\, Thurmont\, MD\, 21788\, United States
END:VEVENT
END:VCALENDAR