BEGIN:VCALENDAR
VERSION:2.0
PRODID:-//Emmanuel Missionary Institute - ECPv6.15.17//NONSGML v1.0//EN
CALSCALE:GREGORIAN
METHOD:PUBLISH
X-WR-CALNAME:Emmanuel Missionary Institute
X-ORIGINAL-URL:https://emi-ministries.org
X-WR-CALDESC:Events for Emmanuel Missionary Institute
REFRESH-INTERVAL;VALUE=DURATION:PT1H
X-Robots-Tag:noindex
X-PUBLISHED-TTL:PT1H
BEGIN:VTIMEZONE
TZID:America/New_York
BEGIN:DAYLIGHT
TZOFFSETFROM:-0500
TZOFFSETTO:-0400
TZNAME:EDT
DTSTART:20250309T070000
END:DAYLIGHT
BEGIN:STANDARD
TZOFFSETFROM:-0400
TZOFFSETTO:-0500
TZNAME:EST
DTSTART:20251102T060000
END:STANDARD
BEGIN:DAYLIGHT
TZOFFSETFROM:-0500
TZOFFSETTO:-0400
TZNAME:EDT
DTSTART:20260308T070000
END:DAYLIGHT
BEGIN:STANDARD
TZOFFSETFROM:-0400
TZOFFSETTO:-0500
TZNAME:EST
DTSTART:20261101T060000
END:STANDARD
BEGIN:DAYLIGHT
TZOFFSETFROM:-0500
TZOFFSETTO:-0400
TZNAME:EDT
DTSTART:20270314T070000
END:DAYLIGHT
BEGIN:STANDARD
TZOFFSETFROM:-0400
TZOFFSETTO:-0500
TZNAME:EST
DTSTART:20271107T060000
END:STANDARD
END:VTIMEZONE
BEGIN:VEVENT
DTSTART;TZID=America/New_York:20260508T193000
DTEND;TZID=America/New_York:20260508T203000
DTSTAMP:20260423T172141
CREATED:20250624T012143Z
LAST-MODIFIED:20260423T193427Z
UID:5781-1778268600-1778272200@emi-ministries.org
SUMMARY:EMI Zoom Meeting - The Book of James Part 8
DESCRIPTION:EMI is hosting Zoom meetings every Friday night with Ray DeCarlo. Currently he is giving a study on the book of James.  Sign up for our emails to receive the Zoom sign in details. If you would like to listen to the previous meetings go to our website\, click on the “Sermons” tab then click on “New Sermons.”
URL:https://emi-ministries.org/event/emi-zoom-meeting-the-book-of-acts-part-28/
END:VEVENT
BEGIN:VEVENT
DTSTART;TZID=America/New_York:20260513T193000
DTEND;TZID=America/New_York:20260513T203000
DTSTAMP:20260423T172141
CREATED:20250912T201648Z
LAST-MODIFIED:20260315T193700Z
UID:5986-1778700600-1778704200@emi-ministries.org
SUMMARY:EMI Zoom Meeting - Wednesday Night Bible Study
DESCRIPTION:EMI is hosting Zoom meetings every Wednesday night.  We are studying the book Thoughts from the Mount of Blessing\, by Ellen. G. White.  Brian Beavers from Apocalyptic Gospel Ministries will join Ray DeCarlo each week for discussion of this important study.  Join us for this special time of fellowship and Bible study. Contact us or sign up for our emails to receive the Zoom sign in details. You can receive our emails by going to our home page\, scrolling down to the bottom where it says “Join Our Mailing List.”
URL:https://emi-ministries.org/event/emi-zoom-meeting-wednesday-night-bible-study-8/
END:VEVENT
BEGIN:VEVENT
DTSTART;TZID=America/New_York:20260515T193000
DTEND;TZID=America/New_York:20260515T203000
DTSTAMP:20260423T172141
CREATED:20231103T192002Z
LAST-MODIFIED:20260423T193612Z
UID:1718-1778873400-1778877000@emi-ministries.org
SUMMARY:EMI Zoom Meeting - The Book of James Part 9
DESCRIPTION:EMI is hosting Zoom meetings every Friday night with Ray DeCarlo. Currently he is giving a study on the book of James.  Sign up for our emails to receive the Zoom sign in details. If you would like to listen to the previous meetings go to our website\, click on the “Sermons” tab then click on “New Sermons.”
URL:https://emi-ministries.org/event/emi-zoom-meetings-every-friday-night-3/
END:VEVENT
BEGIN:VEVENT
DTSTART;TZID=America/New_York:20260522T193000
DTEND;TZID=America/New_York:20260522T203000
DTSTAMP:20260423T172141
CREATED:20231103T192112Z
LAST-MODIFIED:20260423T193806Z
UID:1720-1779478200-1779481800@emi-ministries.org
SUMMARY:EMI Zoom Meeting - The Book of James Part 10
DESCRIPTION:EMI is hosting Zoom meetings every Friday night with Ray DeCarlo. Currently he is giving a study on the book of James.  Sign up for our emails to receive the Zoom sign in details. If you would like to listen to the previous meetings go to our website\, click on the “Sermons” tab then click on “New Sermons.”
URL:https://emi-ministries.org/event/emi-zoom-meetings-every-friday-night-4/
END:VEVENT
BEGIN:VEVENT
DTSTART;TZID=America/New_York:20260529T193000
DTEND;TZID=America/New_York:20260529T203000
DTSTAMP:20260423T172141
CREATED:20260126T161221Z
LAST-MODIFIED:20260423T193914Z
UID:6518-1780083000-1780086600@emi-ministries.org
SUMMARY:EMI Zoom Meeting - The Book of James Part 11
DESCRIPTION:EMI is hosting Zoom meetings every Friday night with Ray DeCarlo. Currently he is giving a study on the book of James.  Sign up for our emails to receive the Zoom sign in details. If you would like to listen to the previous meetings go to our website\, click on the “Sermons” tab then click on “New Sermons.”
URL:https://emi-ministries.org/event/emi-zoom-meeting-the-book-of-acts-part-47/
END:VEVENT
BEGIN:VEVENT
DTSTART;TZID=America/New_York:20260605T193000
DTEND;TZID=America/New_York:20260605T203000
DTSTAMP:20260423T172141
CREATED:20260126T161406Z
LAST-MODIFIED:20260423T194039Z
UID:6520-1780687800-1780691400@emi-ministries.org
SUMMARY:EMI Zoom Meeting - The Book of James Part 12
DESCRIPTION:EMI is hosting Zoom meetings every Friday night with Ray DeCarlo. Currently he is giving a study on the book of James.  Sign up for our emails to receive the Zoom sign in details. If you would like to listen to the previous meetings go to our website\, click on the “Sermons” tab then click on “New Sermons.”
URL:https://emi-ministries.org/event/emi-zoom-meeting-the-book-of-acts-part-48/
END:VEVENT
BEGIN:VEVENT
DTSTART;TZID=America/New_York:20260612T193000
DTEND;TZID=America/New_York:20260612T203000
DTSTAMP:20260423T172141
CREATED:20260126T161508Z
LAST-MODIFIED:20260423T194154Z
UID:6522-1781292600-1781296200@emi-ministries.org
SUMMARY:EMI Zoom Meeting - The Book of James Part 13
DESCRIPTION:EMI is hosting Zoom meetings every Friday night with Ray DeCarlo. Currently he is giving a study on the book of James.  Sign up for our emails to receive the Zoom sign in details. If you would like to listen to the previous meetings go to our website\, click on the “Sermons” tab then click on “New Sermons.”
URL:https://emi-ministries.org/event/emi-zoom-meeting-the-book-of-acts-part-49/
END:VEVENT
BEGIN:VEVENT
DTSTART;TZID=America/New_York:20260619T193000
DTEND;TZID=America/New_York:20260619T203000
DTSTAMP:20260423T172141
CREATED:20260126T161624Z
LAST-MODIFIED:20260423T194259Z
UID:6524-1781897400-1781901000@emi-ministries.org
SUMMARY:EMI Zoom Meeting - The Book of James Part 14
DESCRIPTION:EMI is hosting Zoom meetings every Friday night with Ray DeCarlo. Currently he is giving a study on the book of James.  Sign up for our emails to receive the Zoom sign in details. If you would like to listen to the previous meetings go to our website\, click on the “Sermons” tab then click on “New Sermons.”
URL:https://emi-ministries.org/event/emi-zoom-meeting-the-book-of-acts-part-50/
END:VEVENT
BEGIN:VEVENT
DTSTART;TZID=America/New_York:20260626T193000
DTEND;TZID=America/New_York:20260626T203000
DTSTAMP:20260423T172141
CREATED:20250624T011948Z
LAST-MODIFIED:20260423T194354Z
UID:5777-1782502200-1782505800@emi-ministries.org
SUMMARY:EMI Zoom Meeting - The Book of James Part 15
DESCRIPTION:EMI is hosting Zoom meetings every Friday night with Ray DeCarlo. Currently he is giving a study on the book of James.  Sign up for our emails to receive the Zoom sign in details. If you would like to listen to the previous meetings go to our website\, click on the “Sermons” tab then click on “New Sermons.”
URL:https://emi-ministries.org/event/emi-zoom-meeting-the-book-of-acts-part-26/
END:VEVENT
END:VCALENDAR