BEGIN:VCALENDAR
VERSION:2.0
PRODID:-//Emmanuel Missionary Institute - ECPv6.15.17//NONSGML v1.0//EN
CALSCALE:GREGORIAN
METHOD:PUBLISH
X-WR-CALNAME:Emmanuel Missionary Institute
X-ORIGINAL-URL:https://emi-ministries.org
X-WR-CALDESC:Events for Emmanuel Missionary Institute
REFRESH-INTERVAL;VALUE=DURATION:PT1H
X-Robots-Tag:noindex
X-PUBLISHED-TTL:PT1H
BEGIN:VTIMEZONE
TZID:America/New_York
BEGIN:DAYLIGHT
TZOFFSETFROM:-0500
TZOFFSETTO:-0400
TZNAME:EDT
DTSTART:20180311T070000
END:DAYLIGHT
BEGIN:STANDARD
TZOFFSETFROM:-0400
TZOFFSETTO:-0500
TZNAME:EST
DTSTART:20181104T060000
END:STANDARD
BEGIN:DAYLIGHT
TZOFFSETFROM:-0500
TZOFFSETTO:-0400
TZNAME:EDT
DTSTART:20190310T070000
END:DAYLIGHT
BEGIN:STANDARD
TZOFFSETFROM:-0400
TZOFFSETTO:-0500
TZNAME:EST
DTSTART:20191103T060000
END:STANDARD
BEGIN:DAYLIGHT
TZOFFSETFROM:-0500
TZOFFSETTO:-0400
TZNAME:EDT
DTSTART:20200308T070000
END:DAYLIGHT
BEGIN:STANDARD
TZOFFSETFROM:-0400
TZOFFSETTO:-0500
TZNAME:EST
DTSTART:20201101T060000
END:STANDARD
END:VTIMEZONE
BEGIN:VEVENT
DTSTART;TZID=America/New_York:20191012T100000
DTEND;TZID=America/New_York:20191012T163000
DTSTAMP:20260423T192115
CREATED:20170711T201841Z
LAST-MODIFIED:20190614T185833Z
UID:716-1570874400-1570897800@emi-ministries.org
SUMMARY:Castle High School\, Kaneohe\, HI
DESCRIPTION:Castle High School\nLittle Theater\n45386 Kaneohe Bay Drive\nKaneohe\, HI 96744\nContact: Ray DeCarlo 301-745-6226\nMeetings Times: 10:00 AM\, 11:00 AM\, 2:00 PM. 3:15 PM\, Lunch at 12:00-bring a covered dish to share and ready to serve. No kitchen facilities. \n 
URL:https://emi-ministries.org/event/castle-high-school-kaneohe-hi/
END:VEVENT
END:VCALENDAR